BEGIN:VCALENDAR
VERSION:2.0
PRODID:-//eventon.com NONSGML v1.0//EN
CALSCALE:GREGORIAN
METHOD:PUBLISH
BEGIN:VEVENT
UID:69e5e5839a3c8
DTSTAMP:20260420T083619Z
DTSTART:20250302
DTEND:20250303
LOCATION:
SUMMARY:CA Osasuna – Villarreal Femení
DESCRIPTION:\nhttps://villarrealcf.es/val/events/ca-osasuna-villarreal-feme
 nino/
URL:https://villarrealcf.es/val/events/ca-osasuna-villarreal-femenino/
END:VEVENT
END:VCALENDAR