BEGIN:VCALENDAR
VERSION:2.0
PRODID:-//eventon.com NONSGML v1.0//EN
CALSCALE:GREGORIAN
METHOD:PUBLISH
BEGIN:VEVENT
UID:69e90b0aa0c4f
DTSTAMP:20260422T175314Z
DTSTART:20240819T193000Z
DTEND:20240819T213000Z
LOCATION:
SUMMARY:Villarreal CF vs Atlético de Madrid
DESCRIPTION:\nhttps://villarrealcf.es/val/events/villarreal-cf-vs-atletico-
 de-madrid/
URL:https://villarrealcf.es/val/events/villarreal-cf-vs-atletico-de-madrid/
END:VEVENT
END:VCALENDAR