BEGIN:VCALENDAR
VERSION:2.0
PRODID:-//eventon.com NONSGML v1.0//EN
CALSCALE:GREGORIAN
METHOD:PUBLISH
BEGIN:VEVENT
UID:69e5e5528cb88
DTSTAMP:20260420T083530Z
DTSTART:20240329T103000Z
DTEND:20240329T120000Z
LOCATION:
SUMMARY:Entrenamiento primer equipo
DESCRIPTION:\nhttps://villarrealcf.es/val/events/entrenamiento-primer-equip
 o-33/
URL:https://villarrealcf.es/val/events/entrenamiento-primer-equipo-33/
END:VEVENT
END:VCALENDAR