BEGIN:VCALENDAR
VERSION:2.0
PRODID:-//eventon.com NONSGML v1.0//EN
CALSCALE:GREGORIAN
METHOD:PUBLISH
BEGIN:VEVENT
UID:69e5e55472a11
DTSTAMP:20260420T083532Z
DTSTART:20231229T163000Z
DTEND:20231229T183000Z
LOCATION:
SUMMARY:Entrenamiento en la Ciudad Deportiva
DESCRIPTION:\nhttps://villarrealcf.es/val/events/entrenamiento-en-la-ciudad
 -deportiva-135/
URL:https://villarrealcf.es/val/events/entrenamiento-en-la-ciudad-deportiva-135/
END:VEVENT
END:VCALENDAR