BEGIN:VCALENDAR
VERSION:2.0
PRODID:-//eventon.com NONSGML v1.0//EN
CALSCALE:GREGORIAN
METHOD:PUBLISH
BEGIN:VEVENT
UID:69e5e581226dd
DTSTAMP:20260420T083617Z
DTSTART:20231109T174500Z
DTEND:20231109T194500Z
LOCATION:
SUMMARY:Maccabi Haifa-Villarreal
DESCRIPTION:\nhttps://villarrealcf.es/val/events/maccabi-haifa-villarreal-2
 /
URL:https://villarrealcf.es/val/events/maccabi-haifa-villarreal-2/
END:VEVENT
END:VCALENDAR