BEGIN:VCALENDAR
VERSION:2.0
PRODID:-//eventon.com NONSGML v1.0//EN
CALSCALE:GREGORIAN
METHOD:PUBLISH
BEGIN:VEVENT
UID:69e5e9159255d
DTSTAMP:20260420T085133Z
DTSTART:20231013T083000Z
DTEND:20231013T100000Z
LOCATION:
SUMMARY:Entrenament a la Ciutat Esportiva
DESCRIPTION:\nhttps://villarrealcf.es/val/events/entrenamiento-en-la-ciudad
 -deportiva-96/
URL:https://villarrealcf.es/val/events/entrenamiento-en-la-ciudad-deportiva-96/
END:VEVENT
END:VCALENDAR