BEGIN:VCALENDAR
VERSION:2.0
PRODID:-//eventon.com NONSGML v1.0//EN
CALSCALE:GREGORIAN
METHOD:PUBLISH
BEGIN:VEVENT
UID:69e5fe0b16e7d
DTSTAMP:20260420T102059Z
DTSTART:20230930T170000Z
DTEND:20230930T190000Z
LOCATION:
SUMMARY:Villarreal Femení-Valencia CF
DESCRIPTION:\nhttps://villarrealcf.es/val/events/villarreal-femenino-valenc
 ia-cf/
URL:https://villarrealcf.es/val/events/villarreal-femenino-valencia-cf/
END:VEVENT
END:VCALENDAR