BEGIN:VCALENDAR
VERSION:2.0
PRODID:-//eventon.com NONSGML v1.0//EN
CALSCALE:GREGORIAN
METHOD:PUBLISH
BEGIN:VEVENT
UID:69e5e96d8624f
DTSTAMP:20260420T085301Z
DTSTART:20231220T203000Z
DTEND:20231220T223000Z
LOCATION:
SUMMARY:Villarreal-Celta
DESCRIPTION:\nhttps://villarrealcf.es/val/events/villarreal-celta-2/
URL:https://villarrealcf.es/val/events/villarreal-celta-2/
END:VEVENT
END:VCALENDAR