BEGIN:VCALENDAR
VERSION:2.0
PRODID:-//eventon.com NONSGML v1.0//EN
CALSCALE:GREGORIAN
METHOD:PUBLISH
BEGIN:VEVENT
UID:69e4c1ef8f47d
DTSTAMP:20260419T115215Z
DTSTART:20230718T173000Z
DTEND:20230718T193000Z
LOCATION:
SUMMARY:Rheindorf Altach-Villarreal CF
DESCRIPTION:\nhttps://villarrealcf.es/val/events/rheindorf-altach-villarrea
 l-cf/
URL:https://villarrealcf.es/val/events/rheindorf-altach-villarreal-cf/
END:VEVENT
END:VCALENDAR