BEGIN:VCALENDAR
VERSION:2.0
PRODID:-//eventon.com NONSGML v1.0//EN
CALSCALE:GREGORIAN
METHOD:PUBLISH
BEGIN:VEVENT
UID:69e5f98bab4a7
DTSTAMP:20260420T100147Z
DTSTART:20230127T093000Z
DTEND:20230127T113000Z
LOCATION:
SUMMARY:Entrenament Ciutat Esportiva
DESCRIPTION:\nhttps://villarrealcf.es/val/events/entrenamiento-ciudad-depor
 tiva-8/
URL:https://villarrealcf.es/val/events/entrenamiento-ciudad-deportiva-8/
END:VEVENT
END:VCALENDAR