BEGIN:VCALENDAR
VERSION:2.0
PRODID:-//eventon.com NONSGML v1.0//EN
CALSCALE:GREGORIAN
METHOD:PUBLISH
BEGIN:VEVENT
UID:69e5fe4905738
DTSTAMP:20260420T102201Z
DTSTART:20221217T193000Z
DTEND:20221217T225000Z
LOCATION:
SUMMARY:SCC Napoli vs Villarreal CF
DESCRIPTION:\nhttps://villarrealcf.es/val/events/scc-napoli-vs-villarreal-c
 f/
URL:https://villarrealcf.es/val/events/scc-napoli-vs-villarreal-cf/
END:VEVENT
END:VCALENDAR