BEGIN:VCALENDAR
VERSION:2.0
PRODID:-//eventon.com NONSGML v1.0//EN
CALSCALE:GREGORIAN
METHOD:PUBLISH
BEGIN:VEVENT
UID:69e62eb0044ca
DTSTAMP:20260420T134832Z
DTSTART:20260201T100000Z
DTEND:20260201T120000Z
LOCATION:
SUMMARY:FC Barcelona B - Villarreal CF Femenino
DESCRIPTION:\nhttps://villarrealcf.es/events/fc-barcelona-b-villarreal-cf-f
 emenino/
URL:https://villarrealcf.es/events/fc-barcelona-b-villarreal-cf-femenino/
END:VEVENT
END:VCALENDAR