BEGIN:VCALENDAR
VERSION:2.0
PRODID:-//eventon.com NONSGML v1.0//EN
CALSCALE:GREGORIAN
METHOD:PUBLISH
BEGIN:VEVENT
UID:69e8f6de4e8d2
DTSTAMP:20260422T162710Z
DTSTART:20240819T193000Z
DTEND:20240819T213000Z
LOCATION:
SUMMARY:Villarreal CF - Atlético de Madrid
DESCRIPTION:\nhttps://villarrealcf.es/events/villarreal-cf-vs-atletico-de-m
 adrid/
URL:https://villarrealcf.es/events/villarreal-cf-vs-atletico-de-madrid/
END:VEVENT
END:VCALENDAR