BEGIN:VCALENDAR
VERSION:2.0
PRODID:-//eventon.com NONSGML v1.0//EN
CALSCALE:GREGORIAN
METHOD:PUBLISH
BEGIN:VEVENT
UID:69e5e577a31b0
DTSTAMP:20260420T083607Z
DTSTART:20240321T103000Z
DTEND:20240321T120000Z
LOCATION:
SUMMARY:Entrenamiento en la Ciudad Deportiva
DESCRIPTION:\nhttps://villarrealcf.es/events/entrenamiento-en-la-ciudad-dep
 ortiva-174/
URL:https://villarrealcf.es/events/entrenamiento-en-la-ciudad-deportiva-174/
END:VEVENT
END:VCALENDAR