BEGIN:VCALENDAR
VERSION:2.0
PRODID:-//eventon.com NONSGML v1.0//EN
CALSCALE:GREGORIAN
METHOD:PUBLISH
BEGIN:VEVENT
UID:69e5e8e5526c1
DTSTAMP:20260420T085045Z
DTSTART:20240110T103000Z
DTEND:20240110T120000Z
LOCATION:
SUMMARY:Entrenamiento en la Ciudad Deportiva
DESCRIPTION:\nhttps://villarrealcf.es/events/entrenamiento-en-la-ciudad-dep
 ortiva-142/
URL:https://villarrealcf.es/events/entrenamiento-en-la-ciudad-deportiva-142/
END:VEVENT
END:VCALENDAR