BEGIN:VCALENDAR
VERSION:2.0
PRODID:-//eventon.com NONSGML v1.0//EN
CALSCALE:GREGORIAN
METHOD:PUBLISH
BEGIN:VEVENT
UID:69e5e5764432f
DTSTAMP:20260420T083606Z
DTSTART:20231202T120000Z
DTEND:20231202T121500Z
LOCATION:
SUMMARY:RDP Marcelino
DESCRIPTION:\nhttps://villarrealcf.es/events/rdp-marcelino/
URL:https://villarrealcf.es/events/rdp-marcelino/
END:VEVENT
END:VCALENDAR