BEGIN:VCALENDAR
VERSION:2.0
PRODID:-//eventon.com NONSGML v1.0//EN
CALSCALE:GREGORIAN
METHOD:PUBLISH
BEGIN:VEVENT
UID:69e5e54f2b569
DTSTAMP:20260420T083527Z
DTSTART:20231116T100000Z
DTEND:20231116T113000Z
LOCATION:
SUMMARY:Entrenamiento Ciudad Deportiva
DESCRIPTION:\nhttps://villarrealcf.es/events/entrenamiento-ciudad-deportiva
 -41/
URL:https://villarrealcf.es/events/entrenamiento-ciudad-deportiva-41/
END:VEVENT
END:VCALENDAR