BEGIN:VCALENDAR
VERSION:2.0
PRODID:-//eventon.com NONSGML v1.0//EN
CALSCALE:GREGORIAN
METHOD:PUBLISH
BEGIN:VEVENT
UID:69e5e8c90801e
DTSTAMP:20260420T085017Z
DTSTART:20240420T141500Z
DTEND:20240420T161500Z
LOCATION:
SUMMARY:Villarreal B- Racing Ferrol
DESCRIPTION:\nhttps://villarrealcf.es/events/villarreal-b-racing-ferrol/
URL:https://villarrealcf.es/events/villarreal-b-racing-ferrol/
END:VEVENT
END:VCALENDAR