BEGIN:VCALENDAR
VERSION:2.0
PRODID:-//eventon.com NONSGML v1.0//EN
CALSCALE:GREGORIAN
METHOD:PUBLISH
BEGIN:VEVENT
UID:69e5e578d27ae
DTSTAMP:20260420T083608Z
DTSTART:20240323T173000Z
DTEND:20240323T193000Z
LOCATION:
SUMMARY:Villarreal B-Leganés
DESCRIPTION:\nhttps://villarrealcf.es/events/villarreal-b-leganes/
URL:https://villarrealcf.es/events/villarreal-b-leganes/
END:VEVENT
END:VCALENDAR