BEGIN:VCALENDAR
VERSION:2.0
PRODID:-//eventon.com NONSGML v1.0//EN
CALSCALE:GREGORIAN
METHOD:PUBLISH
BEGIN:VEVENT
UID:69e5f98e3793b
DTSTAMP:20260420T100150Z
DTSTART:20231203T173000Z
DTEND:20231203T193000Z
LOCATION:
SUMMARY:Sevilla-Villarreal
DESCRIPTION:\nhttps://villarrealcf.es/events/sevilla-villarreal/
URL:https://villarrealcf.es/events/sevilla-villarreal/
END:VEVENT
END:VCALENDAR