BEGIN:VCALENDAR
VERSION:2.0
PRODID:-//eventon.com NONSGML v1.0//EN
CALSCALE:GREGORIAN
METHOD:PUBLISH
BEGIN:VEVENT
UID:69e5e8cad0b38
DTSTAMP:20260420T085018Z
DTSTART:20230528T170000Z
DTEND:20230528T190000Z
LOCATION:
SUMMARY:Rayo Vallecano-Villarreal CF
DESCRIPTION:\nhttps://villarrealcf.es/events/rayo-vallecano-villarreal-cf/
URL:https://villarrealcf.es/events/rayo-vallecano-villarreal-cf/
END:VEVENT
END:VCALENDAR