BEGIN:VCALENDAR
VERSION:2.0
PRODID:-//eventon.com NONSGML v1.0//EN
CALSCALE:GREGORIAN
METHOD:PUBLISH
BEGIN:VEVENT
UID:69ecf6437e3e7
DTSTAMP:20260425T171339Z
DTSTART:20230325T163000Z
DTEND:20230325T190000Z
LOCATION:
SUMMARY:El Partido de las Leyendas
DESCRIPTION:\nhttps://villarrealcf.es/events/el-partido-de-las-leyendas/
URL:https://villarrealcf.es/events/el-partido-de-las-leyendas/
END:VEVENT
END:VCALENDAR