BEGIN:VCALENDAR
VERSION:2.0
PRODID:-//eventon.com NONSGML v1.0//EN
CALSCALE:GREGORIAN
METHOD:PUBLISH
BEGIN:VEVENT
UID:69e5fe21ae487
DTSTAMP:20260420T102121Z
DTSTART:20230319T173000Z
DTEND:20230319T193000Z
LOCATION:
SUMMARY:Villarreal B - Cartagena
DESCRIPTION:\nhttps://villarrealcf.es/events/villarreal-b-cartagena/
URL:https://villarrealcf.es/events/villarreal-b-cartagena/
END:VEVENT
END:VCALENDAR