BEGIN:VCALENDAR
VERSION:2.0
PRODID:-//eventon.com NONSGML v1.0//EN
CALSCALE:GREGORIAN
METHOD:PUBLISH
BEGIN:VEVENT
UID:69e5f976d0608
DTSTAMP:20260420T100126Z
DTSTART:20230127T093000Z
DTEND:20230127T113000Z
LOCATION:
SUMMARY:Entrenamiento Ciudad Deportiva
DESCRIPTION:\nhttps://villarrealcf.es/events/entrenamiento-ciudad-deportiva
 -8/
URL:https://villarrealcf.es/events/entrenamiento-ciudad-deportiva-8/
END:VEVENT
END:VCALENDAR