BEGIN:VCALENDAR
VERSION:2.0
PRODID:-//eventon.com NONSGML v1.0//EN
CALSCALE:GREGORIAN
METHOD:PUBLISH
BEGIN:VEVENT
UID:69e5e904a2f39
DTSTAMP:20260420T085116Z
DTSTART:20230107T110000Z
DTEND:20230107T130000Z
LOCATION:
SUMMARY:Villarreal Femenino-Levante UD
DESCRIPTION:\nhttps://villarrealcf.es/events/villarreal-femenino-vs-levante
 -ud/
URL:https://villarrealcf.es/events/villarreal-femenino-vs-levante-ud/
END:VEVENT
END:VCALENDAR