BEGIN:VCALENDAR
VERSION:2.0
PRODID:-//eventon.com NONSGML v1.0//EN
CALSCALE:GREGORIAN
METHOD:PUBLISH
BEGIN:VEVENT
UID:69e64006d4326
DTSTAMP:20260420T150230Z
DTSTART:20260201T100000Z
DTEND:20260201T120000Z
LOCATION:
SUMMARY:FC Barcelona B vs Villarreal CF Women
DESCRIPTION:\nhttps://villarrealcf.es/en/events/fc-barcelona-b-vs-villarrea
 l-cf-women/
URL:https://villarrealcf.es/en/events/fc-barcelona-b-vs-villarreal-cf-women/
END:VEVENT
END:VCALENDAR