BEGIN:VCALENDAR
VERSION:2.0
PRODID:-//eventon.com NONSGML v1.0//EN
CALSCALE:GREGORIAN
METHOD:PUBLISH
BEGIN:VEVENT
UID:69e5e94ce2d9d
DTSTAMP:20260420T085228Z
DTSTART:20241117
DTEND:20241118
LOCATION:
SUMMARY:Villarreal Women vs Alba Fundación
DESCRIPTION:\nhttps://villarrealcf.es/en/events/villarreal-femenino-alba-fu
 ndacion/
URL:https://villarrealcf.es/en/events/villarreal-femenino-alba-fundacion/
END:VEVENT
END:VCALENDAR