BEGIN:VCALENDAR
VERSION:2.0
PRODID:-//eventon.com NONSGML v1.0//EN
CALSCALE:GREGORIAN
METHOD:PUBLISH
BEGIN:VEVENT
UID:69e5e5af26b2a
DTSTAMP:20260420T083703Z
DTSTART:20240822T080000Z
DTEND:20240822T100000Z
LOCATION:
SUMMARY:First-team training
DESCRIPTION:\nhttps://villarrealcf.es/en/events/first-team-training-242/
URL:https://villarrealcf.es/en/events/first-team-training-242/
END:VEVENT
END:VCALENDAR