BEGIN:VCALENDAR
VERSION:2.0
PRODID:-//eventon.com NONSGML v1.0//EN
CALSCALE:GREGORIAN
METHOD:PUBLISH
BEGIN:VEVENT
UID:69ea520480011
DTSTAMP:20260423T170820Z
DTSTART:20250302
DTEND:20250303
LOCATION:
SUMMARY:Villarreal CF - RCD Espanyol
DESCRIPTION:\nhttps://villarrealcf.es/en/events/villarreal-cf-rcd-espanyol/
URL:https://villarrealcf.es/en/events/villarreal-cf-rcd-espanyol/
END:VEVENT
END:VCALENDAR