BEGIN:VCALENDAR
VERSION:2.0
PRODID:-//eventon.com NONSGML v1.0//EN
CALSCALE:GREGORIAN
METHOD:PUBLISH
BEGIN:VEVENT
UID:69e90b0a24f8d
DTSTAMP:20260422T175314Z
DTSTART:20240819T193000Z
DTEND:20240819T213000Z
LOCATION:
SUMMARY:Villarreal CF vs Atlético Madrid
DESCRIPTION:\nhttps://villarrealcf.es/en/events/villarreal-cf-vs-atletico-d
 e-madrid-2/
URL:https://villarrealcf.es/en/events/villarreal-cf-vs-atletico-de-madrid-2/
END:VEVENT
END:VCALENDAR