BEGIN:VCALENDAR
VERSION:2.0
PRODID:-//eventon.com NONSGML v1.0//EN
CALSCALE:GREGORIAN
METHOD:PUBLISH
BEGIN:VEVENT
UID:69e5e5a946cea
DTSTAMP:20260420T083657Z
DTSTART:20240525T100000Z
DTEND:20240525T120000Z
LOCATION:
SUMMARY:Levante UD vs Villarreal Women
DESCRIPTION:\nhttps://villarrealcf.es/en/events/levante-ud-vs-villarreal-wo
 men-2/
URL:https://villarrealcf.es/en/events/levante-ud-vs-villarreal-women-2/
END:VEVENT
END:VCALENDAR