BEGIN:VCALENDAR
VERSION:2.0
PRODID:-//eventon.com NONSGML v1.0//EN
CALSCALE:GREGORIAN
METHOD:PUBLISH
BEGIN:VEVENT
UID:69e5e951390d8
DTSTAMP:20260420T085233Z
DTSTART:20240510T163000Z
DTEND:20240510T183000Z
LOCATION:
SUMMARY:Villarreal Women vs SD Eibar
DESCRIPTION:\nhttps://villarrealcf.es/en/events/villarreal-women-vs-sd-eiba
 r/
URL:https://villarrealcf.es/en/events/villarreal-women-vs-sd-eibar/
END:VEVENT
END:VCALENDAR