BEGIN:VCALENDAR
VERSION:2.0
PRODID:-//eventon.com NONSGML v1.0//EN
CALSCALE:GREGORIAN
METHOD:PUBLISH
BEGIN:VEVENT
UID:69e5e5ebad780
DTSTAMP:20260420T083803Z
DTSTART:20240504T160000Z
DTEND:20240504T180000Z
LOCATION:
SUMMARY:Athletic Club vs Villarreal Women
DESCRIPTION:\nhttps://villarrealcf.es/en/events/athletic-club-vs-villarreal
 -women-2/
URL:https://villarrealcf.es/en/events/athletic-club-vs-villarreal-women-2/
END:VEVENT
END:VCALENDAR