BEGIN:VCALENDAR
VERSION:2.0
PRODID:-//eventon.com NONSGML v1.0//EN
CALSCALE:GREGORIAN
METHOD:PUBLISH
BEGIN:VEVENT
UID:69e744b3a7f3d
DTSTAMP:20260421T093443Z
DTSTART:20231031T100000Z
DTEND:20231031T113000Z
LOCATION:
SUMMARY:First-team training
DESCRIPTION:\nhttps://villarrealcf.es/en/events/entrenamiento-en-la-ciudad-
 deportiva-109/
URL:https://villarrealcf.es/en/events/entrenamiento-en-la-ciudad-deportiva-109/
END:VEVENT
END:VCALENDAR