BEGIN:VCALENDAR
VERSION:2.0
PRODID:-//eventon.com NONSGML v1.0//EN
CALSCALE:GREGORIAN
METHOD:PUBLISH
BEGIN:VEVENT
UID:69e4d44e60914
DTSTAMP:20260419T131038Z
DTSTART:20231026T083000Z
DTEND:20231026T100000Z
LOCATION:
SUMMARY:First-team training
DESCRIPTION:\nhttps://villarrealcf.es/en/events/first-team-training-103/
URL:https://villarrealcf.es/en/events/first-team-training-103/
END:VEVENT
END:VCALENDAR