BEGIN:VCALENDAR
VERSION:2.0
PRODID:-//eventon.com NONSGML v1.0//EN
CALSCALE:GREGORIAN
METHOD:PUBLISH
BEGIN:VEVENT
UID:69e5f9cc8f474
DTSTAMP:20260420T100252Z
DTSTART:20231203
DTEND:20231204
LOCATION:
SUMMARY:Sevilla vs Villarreal
DESCRIPTION:\nhttps://villarrealcf.es/en/events/sevilla-villarreal/
URL:https://villarrealcf.es/en/events/sevilla-villarreal/
END:VEVENT
END:VCALENDAR