BEGIN:VCALENDAR
VERSION:2.0
PRODID:-//eventon.com NONSGML v1.0//EN
CALSCALE:GREGORIAN
METHOD:PUBLISH
BEGIN:VEVENT
UID:69ed0c18dd83e
DTSTAMP:20260425T184648Z
DTSTART:20230325T163000Z
DTEND:20230325T190000Z
LOCATION:
SUMMARY:The Legends Match
DESCRIPTION:\nhttps://villarrealcf.es/en/events/the-legends-match/
URL:https://villarrealcf.es/en/events/the-legends-match/
END:VEVENT
END:VCALENDAR