BEGIN:VCALENDAR
VERSION:2.0
PRODID:-//eventon.com NONSGML v1.0//EN
CALSCALE:GREGORIAN
METHOD:PUBLISH
BEGIN:VEVENT
UID:69e5e9502f49a
DTSTAMP:20260420T085232Z
DTSTART:20230408T190000Z
DTEND:20230408T210000Z
LOCATION:
SUMMARY:Real Madrid vs Villarreal CF
DESCRIPTION:\nhttps://villarrealcf.es/en/events/real-madrid-villarreal-cf/
URL:https://villarrealcf.es/en/events/real-madrid-villarreal-cf/
END:VEVENT
END:VCALENDAR