BEGIN:VCALENDAR
VERSION:2.0
PRODID:-//eventon.com NONSGML v1.0//EN
CALSCALE:GREGORIAN
METHOD:PUBLISH
BEGIN:VEVENT
UID:69e5f99e7487e
DTSTAMP:20260420T100206Z
DTSTART:20230127T093000Z
DTEND:20230127T113000Z
LOCATION:
SUMMARY:First-team training
DESCRIPTION:\nhttps://villarrealcf.es/en/events/entrenamiento-ciudad-deport
 iva-8/
URL:https://villarrealcf.es/en/events/entrenamiento-ciudad-deportiva-8/
END:VEVENT
END:VCALENDAR